Workbook

Sheet Spielbericht
AA1: Spielbericht
A3: Bahnanlage: | W3: Bahnen:
A4: Datum: | L4: Spielbeginn: | W4: Spielende:
A5: Spielklasse: | S5: Spiel-Nr.: | Y5: Spieltag:
A7: Heimmannschaft:
AL8: b
B9: Vorname Name | D9: 1. Bahn | I9: 2. Bahn | N9: 3. Bahn | S9: 4. Bahn | W9: Gesamt | Y9: SP | AA9: MP | AC9: SP1 | AD9: SP2 | AE9: SP3 | AF9: SP4 | AH9: ganze MP | AI9: MP 2:2
A10: 1 | D10: V: | G10: F: | I10: V: | L10: F: | N10: V: | Q10: F: | S10: V: | U10: F: | W10: =IF(ISBLANK(D11)," ",D11+I11+N11+S11) | Y10: =SUM(AC11:AF11) -> 0 | AA10: =SUM(AH11:AI11) -> 0
AC11: =IF(ISBLANK(D11)," ",IF(D11>D28,1,IF(D11=D28,0.5,0))) | AD11: =IF(ISBLANK(I11)," ",IF(I11>I28,1,IF(I11=I28,0.5,0))) | AE11: =IF(ISBLANK(N11)," ",IF(N11>N28,1,IF(N11=N28,0.5,0))) | AF11: =IF(ISBLANK(S11)," ",IF(S11>S28,1,IF(S11=S28,0.5,0))) | AG11: =SUM(AC11:AF11) -> 0 | AH11: =IF(ISBLANK(D11)," ",IF(AG11>AG28,1," ")) | AI11: =SUM(AJ11:AK11) -> 0 | AJ11: =IF(AG11=2,IF(W10>W27,1," ")," ") | AK11: =IF(AG11=2,IF(W10=W27,0.5," ")," ")
A12: 2 | D12: V: | G12: F: | I12: V: | L12: F: | N12: V: | Q12: F: | S12: V: | U12: F: | W12: =IF(ISBLANK(D13)," ",D13+I13+N13+S13) | Y12: =SUM(AC13:AF13) -> 0 | AA12: =SUM(AH13:AI13) -> 0
AC13: =IF(ISBLANK(D13)," ",IF(D13>D30,1,IF(D13=D30,0.5,0))) | AD13: =IF(ISBLANK(I13)," ",IF(I13>I30,1,IF(I13=I30,0.5,0))) | AE13: =IF(ISBLANK(N13)," ",IF(N13>N30,1,IF(N13=N30,0.5,0))) | AF13: =IF(ISBLANK(S13)," ",IF(S13>S30,1,IF(S13=S30,0.5,0))) | AG13: =SUM(AC13:AF13) -> 0 | AH13: =IF(ISBLANK(D13)," ",IF(AG13>AG30,1," ")) | AI13: =SUM(AJ13:AK13) -> 0 | AJ13: =IF(AG13=2,IF(W12>W29,1," ")," ") | AK13: =IF(AG13=2,IF(W12=W29,0.5," ")," ")
A14: 3 | D14: V: | G14: F: | I14: V: | L14: F: | N14: V: | Q14: F: | S14: V: | U14: F: | W14: =IF(ISBLANK(D15)," ",D15+I15+N15+S15) | Y14: =SUM(AC15:AF15) -> 0 | AA14: =SUM(AH15:AI15) -> 0
AC15: =IF(ISBLANK(D15)," ",IF(D15>D32,1,IF(D15=D32,0.5,0))) | AD15: =IF(ISBLANK(I15)," ",IF(I15>I32,1,IF(I15=I32,0.5,0))) | AE15: =IF(ISBLANK(N15)," ",IF(N15>N32,1,IF(N15=N32,0.5,0))) | AF15: =IF(ISBLANK(S15)," ",IF(S15>S32,1,IF(S15=S32,0.5,0))) | AG15: =SUM(AC15:AF15) -> 0 | AH15: =IF(ISBLANK(D15)," ",IF(AG15>AG32,1," ")) | AI15: =SUM(AJ15:AK15) -> 0 | AJ15: =IF(AG15=2,IF(W14>W31,1," ")," ") | AK15: =IF(AG15=2,IF(W14=W31,0.5," ")," ")
A16: 4 | D16: V: | G16: F: | I16: V: | L16: F: | N16: V: | Q16: F: | S16: V: | U16: F: | W16: =IF(ISBLANK(D17)," ",D17+I17+N17+S17) | Y16: =SUM(AC17:AF17) -> 0 | AA16: =SUM(AH17:AI17) -> 0
AC17: =IF(ISBLANK(D17)," ",IF(D17>D34,1,IF(D17=D34,0.5,0))) | AD17: =IF(ISBLANK(I17)," ",IF(I17>I34,1,IF(I17=I34,0.5,0))) | AE17: =IF(ISBLANK(N17)," ",IF(N17>N34,1,IF(N17=N34,0.5,0))) | AF17: =IF(ISBLANK(S17)," ",IF(S17>S34,1,IF(S17=S34,0.5,0))) | AG17: =SUM(AC17:AF17) -> 0 | AH17: =IF(ISBLANK(D17)," ",IF(AG17>AG34,1," ")) | AI17: =SUM(AJ17:AK17) -> 0 | AJ17: =IF(AG17=2,IF(W16>W33,1," ")," ") | AK17: =IF(AG17=2,IF(W16=W33,0.5," ")," ")
A18: E1 | D18: ab | N18: . Wurf für
A19: E2 | D19: ab | N19: . Wurf für
B20: Gesamt Kegel: . | W20: =IF(ISBLANK(D11)," ",SUM(W10:X17)) | Y20: MP Kegel: | AA20: =SUM(AH20:AI20) -> 0 | AH20: =IF(ISBLANK(D11)," ",IF(W20>W37,2,IF(W20=W37,1,0)))
Y22: =IF(ISBLANK(D11)," ",SUM(Y10:Z17)) | AA22: =(SUM(AA10:AA16))+AA20 -> 0
A24: Gastmannschaft:
B26: Vorname Name | D26: 1. Bahn | I26: 2. Bahn | N26: 3. Bahn | S26: 4. Bahn | W26: Gesamt | Y26: SP | AA26: MP | AC26: SP1 | AD26: SP2 | AE26: SP3 | AF26: SP4 | AH26: ganze MP | AI26: MP 2:2
A27: 1 | D27: V: | G27: F: | I27: V: | L27: F: | N27: V: | Q27: F: | S27: V: | U27: F: | W27: =IF(ISBLANK(D28)," ",D28+I28+N28+S28) | Y27: =SUM(AC28:AF28) -> 0 | AA27: =SUM(AH28:AI28) -> 0
AC28: =IF(ISBLANK(D28)," ",IF(D28>D11,1,IF(D28=D11,0.5,0))) | AD28: =IF(ISBLANK(I28)," ",IF(I28>I11,1,IF(I28=I11,0.5,0))) | AE28: =IF(ISBLANK(N28)," ",IF(N28>N11,1,IF(N28=N11,0.5,0))) | AF28: =IF(ISBLANK(S28)," ",IF(S28>S11,1,IF(S28=S11,0.5,0))) | AG28: =SUM(AC28:AF28) -> 0 | AH28: =IF(ISBLANK(D28)," ",IF(AG28>AG11,1," ")) | AI28: =SUM(AJ28:AK28) -> 0 | AJ28: =IF(AG28=2,IF(W27>W10,1," ")," ") | AK28: =IF(AG28=2,IF(W27=W10,0.5," ")," ")
A29: 2 | D29: V: | G29: F: | I29: V: | L29: F: | N29: V: | Q29: F: | S29: V: | U29: F: | W29: =IF(ISBLANK(D30)," ",D30+I30+N30+S30) | Y29: =SUM(AC30:AF30) -> 0 | AA29: =SUM(AH30:AI30) -> 0
AC30: =IF(ISBLANK(D30)," ",IF(D30>D13,1,IF(D30=D13,0.5,0))) | AD30: =IF(ISBLANK(I30)," ",IF(I30>I13,1,IF(I30=I13,0.5,0))) | AE30: =IF(ISBLANK(N30)," ",IF(N30>N13,1,IF(N30=N13,0.5,0))) | AF30: =IF(ISBLANK(S30)," ",IF(S30>S13,1,IF(S30=S13,0.5,0))) | AG30: =SUM(AC30:AF30) -> 0 | AH30: =IF(ISBLANK(D30)," ",IF(AG30>AG13,1," ")) | AI30: =SUM(AJ30:AK30) -> 0 | AJ30: =IF(AG30=2,IF(W29>W12,1," ")," ") | AK30: =IF(AG30=2,IF(W29=W12,0.5," ")," ")
A31: 3 | D31: V: | G31: F: | I31: V: | L31: F: | N31: V: | Q31: F: | S31: V: | U31: F: | W31: =IF(ISBLANK(D32)," ",D32+I32+N32+S32) | Y31: =SUM(AC32:AF32) -> 0 | AA31: =SUM(AH32:AI32) -> 0
AC32: =IF(ISBLANK(D32)," ",IF(D32>D15,1,IF(D32=D15,0.5,0))) | AD32: =IF(ISBLANK(I32)," ",IF(I32>I15,1,IF(I32=I15,0.5,0))) | AE32: =IF(ISBLANK(N32)," ",IF(N32>N15,1,IF(N32=N15,0.5,0))) | AF32: =IF(ISBLANK(S32)," ",IF(S32>S15,1,IF(S32=S15,0.5,0))) | AG32: =SUM(AC32:AF32) -> 0 | AH32: =IF(ISBLANK(D32)," ",IF(AG32>AG15,1," ")) | AI32: =SUM(AJ32:AK32) -> 0 | AJ32: =IF(AG32=2,IF(W31>W14,1," ")," ") | AK32: =IF(AG32=2,IF(W31=W14,0.5," ")," ")
A33: 4 | D33: V: | G33: F: | I33: V: | L33: F: | N33: V: | Q33: F: | S33: V: | U33: F: | W33: =IF(ISBLANK(D34)," ",D34+I34+N34+S34) | Y33: =SUM(AC34:AF34) -> 0 | AA33: =SUM(AH34:AI34) -> 0
AC34: =IF(ISBLANK(D34)," ",IF(D34>D17,1,IF(D34=D17,0.5,0))) | AD34: =IF(ISBLANK(I34)," ",IF(I34>I17,1,IF(I34=I17,0.5,0))) | AE34: =IF(ISBLANK(N34)," ",IF(N34>N17,1,IF(N34=N17,0.5,0))) | AF34: =IF(ISBLANK(S34)," ",IF(S34>S17,1,IF(S34=S17,0.5,0))) | AG34: =SUM(AC34:AF34) -> 0 | AH34: =IF(ISBLANK(D34)," ",IF(AG34>AG17,1," ")) | AI34: =SUM(AJ34:AK34) -> 0 | AJ34: =IF(AG34=2,IF(W33>W16,1," ")," ") | AK34: =IF(AG34=2,IF(W33=W16,0.5," ")," ")
A35: E1 | D35: ab | N35: . Wurf für
A36: E2 | D36: ab | N36: . Wurf für
B37: Gesamt Kegel: . | W37: =IF(ISBLANK(D28)," ",SUM(W27:X34)) | Y37: MP Kegel: | AA37: =SUM(AH37:AI37) -> 0 | AH37: =IF(ISBLANK(D11)," ",IF(W37>W20,2,IF(W37=W20,1,0)))
Y39: =IF(ISBLANK(D28)," ",SUM(Y27:Z34)) | AA39: =(SUM(AA27:AA33))+AA37 -> 0
B41: 1) Bahn / Kugelmaterial in Ordnung | D41: X | F41: ja | K41: nein | R41: 4) Verletzung | X41: ja | Y41: X | Z41: nein
B43: 2) Pässe in Ordnung | D43: X | F43: ja | K43: nein | R43: 5) Verwarnung | X43: ja | Y43: X | Z43: nein
B45: 3) Protest | F45: ja | I45: X | K45: nein | R45: 6) sonstiges | X45: ja | Y45: X | Z45: nein
A47: Bemerkungen:
A52: ML Heimmannschaft | D52: Spielleiter/Schiedsrichter | W52: ML Gastmannschaft

Sheet Tabelle1
A1: Bahnanlage | B1: Liga
A2: Kegelsporthalle Völkerfreundschaft | B2: Berlinliga
A3: Kegelsportzentrum Hämmerlingstraße | B3: Vereinsliga

Sheet Übernahme
A1: =Spielbericht!D7 -> 0 | M1: =Spielbericht!D24 -> 0
A2: Name | C2: 1. Bahn | D2: 2. Bahn | E2: 3. Bahn | F2: 4. Bahn | G2: Gesamt | H2: SP | I2: MP | M2: Name | O2: 1. Bahn | P2: 2. Bahn | Q2: 3. Bahn | R2: 4. Bahn | S2: Gesamt | T2: SP | U2: MP
A3: =IF(ISBLANK(Spielbericht!B10),"",Spielbericht!B10) | C3: =IF(ISBLANK(Spielbericht!D11),"",Spielbericht!D11) | D3: =IF(ISBLANK(Spielbericht!I11),"",Spielbericht!I11) | E3: =IF(ISBLANK(Spielbericht!N11),"",Spielbericht!N11) | F3: =IF(ISBLANK(Spielbericht!S11),"",Spielbericht!S11) | G3: =IF(ISBLANK(Spielbericht!W10),"",Spielbericht!W10) | H3: =IF(ISBLANK(Spielbericht!D11),"",Spielbericht!Y10) | I3: =IF(ISBLANK(Spielbericht!D11),"",Spielbericht!AA10) | M3: =IF(ISBLANK(Spielbericht!B27),"",Spielbericht!B27) | O3: =IF(ISBLANK(Spielbericht!D28),"",Spielbericht!D28) | P3: =IF(ISBLANK(Spielbericht!I28),"",Spielbericht!I28) | Q3: =IF(ISBLANK(Spielbericht!N28),"",Spielbericht!N28) | R3: =IF(ISBLANK(Spielbericht!S28),"",Spielbericht!S28) | S3: =IF(ISBLANK(Spielbericht!W27),"",Spielbericht!W27) | T3: =IF(ISBLANK(Spielbericht!D28),"",Spielbericht!Y27) | U3: =IF(ISBLANK(Spielbericht!D28),"",Spielbericht!AA27)
A4: =IF(ISBLANK(Spielbericht!B12),"",Spielbericht!B12) | C4: =IF(ISBLANK(Spielbericht!D13),"",Spielbericht!D13) | D4: =IF(ISBLANK(Spielbericht!I13),"",Spielbericht!I13) | E4: =IF(ISBLANK(Spielbericht!N13),"",Spielbericht!N13) | F4: =IF(ISBLANK(Spielbericht!S13),"",Spielbericht!S13) | G4: =IF(ISBLANK(Spielbericht!W12),"",Spielbericht!W12) | H4: =IF(ISBLANK(Spielbericht!D13),"",Spielbericht!Y12) | I4: =IF(ISBLANK(Spielbericht!D13),"",Spielbericht!AA12) | M4: =IF(ISBLANK(Spielbericht!B29),"",Spielbericht!B29) | O4: =IF(ISBLANK(Spielbericht!D30),"",Spielbericht!D30) | P4: =IF(ISBLANK(Spielbericht!I30),"",Spielbericht!I30) | Q4: =IF(ISBLANK(Spielbericht!N30),"",Spielbericht!N30) | R4: =IF(ISBLANK(Spielbericht!S30),"",Spielbericht!S30) | S4: =IF(ISBLANK(Spielbericht!W29),"",Spielbericht!W29) | T4: =IF(ISBLANK(Spielbericht!D30),"",Spielbericht!Y29) | U4: =IF(ISBLANK(Spielbericht!D30),"",Spielbericht!AA29)
A5: =IF(ISBLANK(Spielbericht!B14),"",Spielbericht!B14) | C5: =IF(ISBLANK(Spielbericht!D15),"",Spielbericht!D15) | D5: =IF(ISBLANK(Spielbericht!I15),"",Spielbericht!I15) | E5: =IF(ISBLANK(Spielbericht!N15),"",Spielbericht!N15) | F5: =IF(ISBLANK(Spielbericht!S15),"",Spielbericht!S15) | G5: =IF(ISBLANK(Spielbericht!W14),"",Spielbericht!W14) | H5: =IF(ISBLANK(Spielbericht!D15),"",Spielbericht!Y14) | I5: =IF(ISBLANK(Spielbericht!D15),"",Spielbericht!AA14) | J5: MP Kegel | M5: =IF(ISBLANK(Spielbericht!B31),"",Spielbericht!B31) | O5: =IF(ISBLANK(Spielbericht!D32),"",Spielbericht!D32) | P5: =IF(ISBLANK(Spielbericht!I32),"",Spielbericht!I32) | Q5: =IF(ISBLANK(Spielbericht!N32),"",Spielbericht!N32) | R5: =IF(ISBLANK(Spielbericht!S32),"",Spielbericht!S32) | S5: =IF(ISBLANK(Spielbericht!W31),"",Spielbericht!W31) | T5: =IF(ISBLANK(Spielbericht!D32),"",Spielbericht!Y31) | U5: =IF(ISBLANK(Spielbericht!D32),"",Spielbericht!AA31)
A6: =IF(ISBLANK(Spielbericht!B16),"",Spielbericht!B16) | C6: =IF(ISBLANK(Spielbericht!D17),"",Spielbericht!D17) | D6: =IF(ISBLANK(Spielbericht!I17),"",Spielbericht!I17) | E6: =IF(ISBLANK(Spielbericht!N17),"",Spielbericht!N17) | F6: =IF(ISBLANK(Spielbericht!S17),"",Spielbericht!S17) | G6: =IF(ISBLANK(Spielbericht!W16),"",Spielbericht!W16) | H6: =IF(ISBLANK(Spielbericht!D17),"",Spielbericht!Y16) | I6: =IF(ISBLANK(Spielbericht!D17),"",Spielbericht!AA16) | J6: =IF(ISBLANK(Spielbericht!D11),"",Spielbericht!AA20) | K6: : | L6: =IF(ISBLANK(Spielbericht!D11),"",Spielbericht!AA37) | M6: =IF(ISBLANK(Spielbericht!B33),"",Spielbericht!B33) | O6: =IF(ISBLANK(Spielbericht!D34),"",Spielbericht!D34) | P6: =IF(ISBLANK(Spielbericht!I34),"",Spielbericht!I34) | Q6: =IF(ISBLANK(Spielbericht!N34),"",Spielbericht!N34) | R6: =IF(ISBLANK(Spielbericht!S34),"",Spielbericht!S34) | S6: =IF(ISBLANK(Spielbericht!W33),"",Spielbericht!W33) | T6: =IF(ISBLANK(Spielbericht!D34),"",Spielbericht!Y33) | U6: =IF(ISBLANK(Spielbericht!D34),"",Spielbericht!AA33)
G7: =SUM(G3:G6) -> 0 | H7: =SUM(H3:H6) -> 0 | I7: =SUM(I3:I6) -> 0 | J7: Endstand | S7: =SUM(S3:S6) -> 0 | T7: =SUM(T3:T6) -> 0 | U7: =SUM(U3:U6) -> 0
J8: =IF(ISBLANK(Spielbericht!D11),"",Spielbericht!AA22) | K8: : | L8: =IF(ISBLANK(Spielbericht!D11),"",Spielbericht!AA39)

Sheet Beamer
A1: =Spielbericht!D7 -> 0 | I1: =Spielbericht!D24 -> 0
A3: 1. Bahn | B3: 2. Bahn | C3: 3. Bahn | D3: 4. Bahn | E3: Gesamt | F3: SP | G3: MP | I3: MP | J3: SP | K3: Gesamt | L3: 4. Bahn | M3: 3. Bahn | N3: 2. Bahn | O3: 1 Bahn
A4: =Spielbericht!B10 -> 0 | E4: =Spielbericht!W10 | F4: =Spielbericht!Y10 -> 0 | G4: =Spielbericht!AA10 -> 0 | I4: =Spielbericht!AA27 -> 0 | J4: =Spielbericht!Y27 -> 0 | K4: =Spielbericht!W27 | L4: =Spielbericht!B27 -> 0
A5: =Spielbericht!D11 -> 0 | B5: =Spielbericht!I11 -> 0 | C5: =Spielbericht!N11 -> 0 | D5: =Spielbericht!S11 -> 0 | L5: =Spielbericht!S28 -> 0 | M5: =Spielbericht!N28 -> 0 | N5: =Spielbericht!I28 -> 0 | O5: =Spielbericht!D28 -> 0
A6: =Spielbericht!B12 -> 0 | E6: =Spielbericht!W12 | F6: =Spielbericht!Y12 -> 0 | G6: =Spielbericht!AA12 -> 0 | I6: =Spielbericht!AA29 -> 0 | J6: =Spielbericht!Y29 -> 0 | K6: =Spielbericht!W29 | L6: =Spielbericht!B29 -> 0
A7: =Spielbericht!D13 -> 0 | B7: =Spielbericht!I13 -> 0 | C7: =Spielbericht!N13 -> 0 | D7: =Spielbericht!S13 -> 0 | L7: =Spielbericht!S30 -> 0 | M7: =Spielbericht!N30 -> 0 | N7: =Spielbericht!I30 -> 0 | O7: =Spielbericht!D30 -> 0
A8: =Spielbericht!B14 -> 0 | E8: =Spielbericht!W14 | F8: =Spielbericht!Y14 -> 0 | G8: =Spielbericht!AA14 -> 0 | I8: =Spielbericht!AA31 -> 0 | J8: =Spielbericht!Y31 -> 0 | K8: =Spielbericht!W31 | L8: =Spielbericht!B31 -> 0
A9: =Spielbericht!D15 -> 0 | B9: =Spielbericht!I15 -> 0 | C9: =Spielbericht!N15 -> 0 | D9: =Spielbericht!S15 -> 0 | L9: =Spielbericht!S32 -> 0 | M9: =Spielbericht!N32 -> 0 | N9: =Spielbericht!I32 -> 0 | O9: =Spielbericht!D32 -> 0
A10: =Spielbericht!B16 -> 0 | E10: =Spielbericht!W16 | F10: =Spielbericht!Y16 -> 0 | G10: =Spielbericht!AA16 -> 0 | I10: =Spielbericht!AA33 -> 0 | J10: =Spielbericht!Y33 -> 0 | K10: =Spielbericht!W33 | L10: =Spielbericht!B33 -> 0
A11: =Spielbericht!D17 -> 0 | B11: =Spielbericht!I17 -> 0 | C11: =Spielbericht!N17 -> 0 | D11: =Spielbericht!S17 -> 0 | L11: =Spielbericht!S34 -> 0 | M11: =Spielbericht!N34 -> 0 | N11: =Spielbericht!I34 -> 0 | O11: =Spielbericht!D34 -> 0
D13: =SUM(E4:E11) -> 0 | F13: MP Kegel | G13: =Spielbericht!AA20 -> 0 | I13: =Spielbericht!AA37 -> 0 | K13: =SUM(K4:K11) -> 0
F15: =SUM(F4:F11) -> 0 | G15: =SUM(G4:G11)+G13 -> 0 | I15: =SUM(I4:I11)+I13 -> 0 | J15: =SUM(J4:J11) -> 0
